Workbook

Sheet 1월
A1: □ 2023회계연도 문화예술진흥기금 지출 운용상황
N2: (단위:원)
A3: 회계연도 | B3: 월 | C3: 소관명 | D3: 회계명 | E3: 세출 예산 사업명 | J3: 운용계획액 | K3: 운용계획현액 | L3: 당월지출금액(총계) | M3: 누계지출금액(총계) | N3: 누계지출금액(순계)
A4: 2023년 | B4: 1월 | C4: 문화체육 관광부 | D4: 문화예술 진흥기금 | E4: 문화및관광 | J4: =J5+J21 -> 539637000000 | K4: =K5+K21 -> 539637000000 | L4: =L5+L21 -> 6335809789 | M4: =M5+M21 -> 6335809789 | N4: =N5+N21 -> 6335809789
F5: 문화예술 | J5: =J6+J18 -> 402480000000 | K5: =K6+K18 -> 402480000000 | L5: =L6+L18 -> 5206429591 | M5: =M6+M18 -> 5206429591 | N5: =N6+N18 -> 5206429591
G6: 예술의 창작역량 및 사회적 가치제고 | J6: =J15+J7+J12 -> 384585000000 | K6: =K15+K7+K12 -> 384585000000 | L6: =L15+L7+L12 -> 5206429591 | M6: =M15+M7+M12 -> 5206429591 | N6: =N15+N7+N12 -> 5206429591
H7: 예술창작역량강화 | J7: =SUM(J8:J11) -> 103360000000 | K7: =SUM(K8:K11) -> 103360000000 | L7: =SUM(L8:L11) -> 4230476219 | M7: =SUM(M8:M11) -> 4230476219 | N7: =SUM(N8:N11) -> 4230476219
I8: 예술창작지원 | J8: =Sheet1!B4 -> 51644000000 | K8: =Sheet1!C4 -> 51644000000 | L8: =VLOOKUP(I8,Sheet1!$A$1:$F$137,5,0) -> 500242468 | M8: =VLOOKUP(I8,Sheet1!$A$1:$F$137,6,0) -> 500242468 | N8: =M8 -> 500242468
I9: 예술인력육성 | J9: =Sheet1!B22 -> 32629000000 | K9: =Sheet1!C22 -> 32629000000 | L9: =VLOOKUP(I9,Sheet1!$A$1:$F$137,5,0) -> 130233751 | M9: =VLOOKUP(I9,Sheet1!$A$1:$F$137,6,0) -> 130233751 | N9: =M9 -> 130233751
I10: (복권)예술인생활안정자금(융자) | J10: =Sheet1!B43 -> 18000000000 | K10: =Sheet1!C43 -> 18000000000 | L10: =VLOOKUP(I10,Sheet1!$A$1:$F$137,5,0) -> 3000000000 | M10: =VLOOKUP(I10,Sheet1!$A$1:$F$137,6,0) -> 3000000000 | N10: =M10 -> 3000000000
I11: (복권)예술인생활안정자금 | J11: =Sheet1!B45 -> 1087000000 | K11: =Sheet1!C45 -> 1087000000 | L11: =VLOOKUP(I11,Sheet1!$A$1:$F$137,5,0) -> 600000000 | M11: =VLOOKUP(I11,Sheet1!$A$1:$F$137,6,0) -> 600000000 | N11: =M11 -> 600000000
H12: 지역문화예술진흥 | J12: =SUM(J13:J14) -> 10377000000 | K12: =SUM(K13:K14) -> 10377000000 | L12: =SUM(L13:L14) -> 0 | M12: =SUM(M13:M14) -> 0 | N12: =SUM(N13:N14) -> 0
I13: 지역문화예술지원 | J13: =Sheet1!B48 -> 3294000000 | K13: =Sheet1!C48 -> 3294000000 | L13: =VLOOKUP(I13,Sheet1!$A$1:$F$137,5,0) -> 0 | M13: =VLOOKUP(I13,Sheet1!$A$1:$F$137,6,0) -> 0 | N13: =M13 -> 0
I14: 예술의관광자원화 | J14: =Sheet1!B54 -> 7083000000 | K14: =Sheet1!C54 -> 7083000000 | L14: =VLOOKUP(I14,Sheet1!$A$1:$F$137,5,0) -> 0 | M14: =VLOOKUP(I14,Sheet1!$A$1:$F$137,6,0) -> 0 | N14: =M14 -> 0
H15: 예술향유기회 확대 | J15: =SUM(J16:J17) -> 270848000000 | K15: =SUM(K16:K17) -> 270848000000 | L15: =SUM(L16:L17) -> 975953372 | M15: =SUM(M16:M17) -> 975953372 | N15: =SUM(N16:N17) -> 975953372
I16: 예술가치의사회적확산 | J16: =Sheet1!B58 -> 22055000000 | K16: =Sheet1!C58 -> 22055000000 | L16: =VLOOKUP(I16,Sheet1!$A$1:$F$137,5,0) -> 911299017 | M16: =VLOOKUP(I16,Sheet1!$A$1:$F$137,6,0) -> 911299017 | N16: =M16 -> 911299017
I17: 문화예술향유지원 | J17: =Sheet1!B75 -> 248793000000 | K17: =Sheet1!C75 -> 248793000000 | L17: =VLOOKUP(I17,Sheet1!$A$1:$F$137,5,0) -> 64654355 | M17: =VLOOKUP(I17,Sheet1!$A$1:$F$137,6,0) -> 64654355 | N17: =M17 -> 64654355
G18: 기금간거래 | J18: =J19 -> 17895000000 | K18: =K19 -> 17895000000 | L18: =L19 -> 0 | M18: =M19 -> 0 | N18: =N19 -> 0
H19: 복권기금반환금(문예진흥기금) | J19: =J20 -> 17895000000 | K19: =K20 -> 17895000000 | L19: =L20 -> 0 | M19: =M20 -> 0 | N19: =N20 -> 0
I20: 문화예술진흥기금에서 복권기금으로의 반환금 | J20: =Sheet1!B130 -> 17895000000 | K20: =Sheet1!C130 -> 17895000000 | L20: =VLOOKUP(H19,Sheet1!$A$1:$F$137,5,0) -> 0 | M20: =VLOOKUP(H19,Sheet1!$A$1:$F$137,6,0) -> 0 | N20: =M20 -> 0
F21: 문화및관광일반 | J21: =J22+J28 -> 137157000000 | K21: =K22+K28 -> 137157000000 | L21: =L22+L28 -> 1129380198 | M21: =M22+M28 -> 1129380198 | N21: =N22+N28 -> 1129380198
G22: 기금운영비 | J22: =J23 -> 23282000000 | K22: =K23 -> 23282000000 | L22: =L23 -> 1129380198 | M22: =M23 -> 1129380198 | N22: =N23 -> 1129380198
H23: 문화예술진흥기금운영비 | J23: =SUM(J24:J27) -> 23282000000 | K23: =SUM(K24:K27) -> 23282000000 | L23: =SUM(L24:L27) -> 1129380198 | M23: =SUM(M24:M27) -> 1129380198 | N23: =SUM(N24:N27) -> 1129380198
I24: 인건비(문예) | J24: =Sheet1!B88 -> 12542000000 | K24: =Sheet1!C88 -> 12542000000 | L24: =VLOOKUP(" 인건비",Sheet1!$A$1:$F$137,5,0) -> 820369504 | M24: =VLOOKUP(" 인건비",Sheet1!$A$1:$F$137,6,0) -> 820369504 | N24: =M24 -> 820369504
I25: 기관운영비(문예) | J25: =Sheet1!B91 -> 8696000000 | K25: =Sheet1!C91 -> 8696000000 | L25: =VLOOKUP(" 기관운영비",Sheet1!$A$1:$F$137,5,0) -> 267512848 | M25: =VLOOKUP(" 기관운영비",Sheet1!$A$1:$F$137,6,0) -> 267512848 | N25: =M25 -> 267512848
I26: 지원심의평가제도 운영 | J26: =Sheet1!B112 -> 362000000 | K26: =Sheet1!C112 -> 362000000 | L26: =VLOOKUP(I26,Sheet1!$A$1:$F$137,5,0) -> 1569660 | M26: =VLOOKUP(I26,Sheet1!$A$1:$F$137,6,0) -> 1569660 | N26: =M26 -> 1569660
I27: 문화예술위원회경영(정보화) | J27: =Sheet1!B119 -> 1682000000 | K27: =Sheet1!C119 -> 1682000000 | L27: =VLOOKUP(I27,Sheet1!$A$1:$F$137,5,0) -> 39928186 | M27: =VLOOKUP(I27,Sheet1!$A$1:$F$137,6,0) -> 39928186 | N27: =M27 -> 39928186
G28: 여유자금운용 | J28: =J29 -> 113875000000 | K28: =K29 -> 113875000000 | L28: =L29 -> 0 | M28: =M29 -> 0 | N28: =N29 -> 0
H29: 비통화금융기관예치(문예기금) | J29: =J30 -> 113875000000 | K29: =K30 -> 113875000000 | L29: =L30 -> 0 | M29: =M30 -> 0 | N29: =N30 -> 0
I30: 문화예술진흥기금에서 비통화금융기관으로의 예치금 | J30: =Sheet1!B135 -> 113875000000 | K30: =Sheet1!C135 -> 113875000000 | L30: =VLOOKUP(G28,Sheet1!$A$1:$F$137,5,0) -> 0 | M30: =VLOOKUP(G28,Sheet1!$A$1:$F$137,6,0) -> 0 | N30: =M30 -> 0

Sheet Sheet1
A1: 예산목 | B1: 예산액(당초) | C1: 예산현액(A) | D1: 전월(누계) | E1: 당월(순액) | F1: 당월(누계)
A2: 예술의창작역량및사회적가치제고 | B2: 384585000000 | C2: 384585000000 | E2: 5206429591 | F2: 5206429591
A3: 예술창작역량강화 | B3: 103360000000 | C3: 103360000000 | E3: 4230476219 | F3: 4230476219
A4: 예술창작지원 | B4: 51644000000 | C4: 51644000000 | E4: 500242468 | F4: 500242468
A5: [110-03] 상용임금 | B5: 1030342000 | C5: 1030342000 | E5: 90046307 | F5: 90046307
A6: [110-04] 일용임금 | B6: 4050000 | C6: 4050000 | E6: 0 | F6: 0
A7: [210-01] 일반수용비 | B7: 7808194000 | C7: 7808194000 | E7: 92070753 | F7: 92070753
A8: [210-02] 공공요금 및 제세 | B8: 502500000 | C8: 502500000 | E8: 42699700 | F8: 42699700
A9: [210-05] 특근매식비 | B9: 21000000 | C9: 21000000 | E9: 0 | F9: 0
A10: [210-07] 임차료 | B10: 41000000 | C10: 41000000 | E10: 2719200 | F10: 2719200
A11: [210-09] 시설장비유지비 | B11: 1230000000 | C11: 1230000000 | E11: 8250130 | F11: 8250130
A12: [210-12] 복리후생비 | B12: 10800000 | C12: 10800000 | E12: 0 | F12: 0
A13: [210-14] 일반용역비 | B13: 2800000000 | C13: 2800000000 | E13: 0 | F13: 0
... A137: 총계 | B137: 539637000000 | C137: 539637000000 | E137: 6335809789 | F137: 6335809789
