Workbook

Sheet 4월
A1: □ 2022회계연도 문화예술진흥기금 지출 운용상황
N2: (단위:원)
A3: 회계연도 | B3: 월 | C3: 소관명 | D3: 회계명 | E3: 세출 예산 사업명 | J3: 운용계획액 | K3: 운용계획현액 | L3: 당월지출금액(총계) | M3: 누계지출금액(총계) | N3: 누계지출금액(순계)
A4: 2022년 | B4: 4월 | C4: 문화체육관광부 | D4: 문화예술진흥기금 | E4: 문화및관광 | J4: =J5+J21 -> 524103000000 | K4: =K5+K21 -> 524103000000 | L4: =L5+L21 -> 47530288308 | M4: =M5+M21 -> 148592464346 | N4: =N5+N21 -> 148592464346
F5: 문화예술 | J5: =J6+J18 -> 368594000000 | K5: =K6+K18 -> 372742000000 | L5: =L6+L18 -> 45931469402 | M5: =M6+M18 -> 142671314236 | N5: =N6+N18 -> 142671314236
G6: 예술의 창작역량 및 사회적 가치제고 | J6: =J15+J7+J12 -> 365594000000 | K6: =K15+K7+K12 -> 369742000000 | L6: =L15+L7+L12 -> 45931469402 | M6: =M15+M7+M12 -> 142671314236 | N6: =N15+N7+N12 -> 142671314236
H7: 예술창작역량강화 | J7: =SUM(J8:J11) -> 106702000000 | K7: =SUM(K8:K11) -> 110850000000 | L7: =SUM(L8:L11) -> 13951889541 | M7: =SUM(M8:M11) -> 42492574517 | N7: =SUM(N8:N11) -> 42492574517
I8: 예술창작지원 | J8: 53414000000 | K8: 57562000000 | L8: =VLOOKUP(I8,Sheet1!$A$1:$F$140,5,0) -> 3973391384 | M8: =VLOOKUP(I8,Sheet1!$A$1:$F$140,6,0) -> 10132733792 | N8: =M8 -> 10132733792
I9: 예술인력육성 | J9: 29388000000 | K9: 29388000000 | L9: =VLOOKUP(I9,Sheet1!$A$1:$F$140,5,0) -> 9978498157 | M9: =VLOOKUP(I9,Sheet1!$A$1:$F$140,6,0) -> 17759840725 | N9: =M9 -> 17759840725
I10: (복권)예술인생활안정자금(융자) | J10: 23000000000 | K10: 23000000000 | L10: =VLOOKUP(I10,Sheet1!$A$1:$F$140,5,0) -> 0 | M10: =VLOOKUP(I10,Sheet1!$A$1:$F$140,6,0) -> 14000000000 | N10: =M10 -> 14000000000
I11: (복권)예술인생활안정자금 | J11: 900000000 | K11: 900000000 | L11: =VLOOKUP(I11,Sheet1!$A$1:$F$140,5,0) -> 0 | M11: =VLOOKUP(I11,Sheet1!$A$1:$F$140,6,0) -> 600000000 | N11: =M11 -> 600000000
H12: 지역문화예술진흥 | J12: =SUM(J13:J14) -> 10947000000 | K12: =SUM(K13:K14) -> 10947000000 | L12: =SUM(L13:L14) -> 1994007000 | M12: =SUM(M13:M14) -> 5335528850 | N12: =SUM(N13:N14) -> 5335528850
I13: 지역문화예술지원 | J13: 3470000000 | K13: 3470000000 | L13: =VLOOKUP(I13,Sheet1!$A$1:$F$140,5,0) -> 108007000 | M13: =VLOOKUP(I13,Sheet1!$A$1:$F$140,6,0) -> 308528850 | N13: =M13 -> 308528850
I14: 예술의관광자원화 | J14: 7477000000 | K14: 7477000000 | L14: =VLOOKUP(I14,Sheet1!$A$1:$F$140,5,0) -> 1886000000 | M14: =VLOOKUP(I14,Sheet1!$A$1:$F$140,6,0) -> 5027000000 | N14: =M14 -> 5027000000
H15: 예술향유기회 확대 | J15: =SUM(J16:J17) -> 247945000000 | K15: =SUM(K16:K17) -> 247945000000 | L15: =SUM(L16:L17) -> 29985572861 | M15: =SUM(M16:M17) -> 94843210869 | N15: =SUM(N16:N17) -> 94843210869
I16: 예술정책및기부활성화 | J16: 21671000000 | K16: 21671000000 | L16: =VLOOKUP(I16,Sheet1!$A$1:$F$140,5,0) -> 3442512508 | M16: =VLOOKUP(I16,Sheet1!$A$1:$F$140,6,0) -> 6379866660 | N16: =M16 -> 6379866660
I17: 문화예술향유지원 | J17: 226274000000 | K17: 226274000000 | L17: =VLOOKUP(I17,Sheet1!$A$1:$F$140,5,0) -> 26543060353 | M17: =VLOOKUP(I17,Sheet1!$A$1:$F$140,6,0) -> 88463344209 | N17: =M17 -> 88463344209
G18: 기금간거래 | J18: =J19 -> 3000000000 | K18: =K19 -> 3000000000 | L18: =L19 -> 0 | M18: =M19 -> 0 | N18: =N19 -> 0
H19: 복권기금반환금(문예진흥기금) | J19: =J20 -> 3000000000 | K19: =K20 -> 3000000000 | L19: =L20 -> 0 | M19: =M20 -> 0 | N19: =N20 -> 0
I20: 문화예술진흥기금에서 복권기금으로의 반환금 | J20: 3000000000 | K20: 3000000000 | L20: =VLOOKUP(H19,Sheet1!$A$1:$F$140,5,0) -> 0 | M20: =VLOOKUP(H19,Sheet1!$A$1:$F$140,6,0) -> 0 | N20: =M20 -> 0
F21: 문화및관광일반 | J21: =J22+J28+J31 -> 155509000000 | K21: =K22+K28+K31 -> 151361000000 | L21: =L22+L28+L31 -> 1598818906 | M21: =M22+M28+M31 -> 5921150110 | N21: =N22+N28+N31 -> 5921150110
G22: 기금운영비 | J22: =J23 -> 22374000000 | K22: =K23 -> 22374000000 | L22: =L23 -> 1581140106 | M22: =M23 -> 5868113710 | N22: =N23 -> 5868113710
H23: 문화예술진흥기금운영비 | J23: =SUM(J24:J27) -> 22374000000 | K23: =SUM(K24:K27) -> 22374000000 | L23: =SUM(L24:L27) -> 1581140106 | M23: =SUM(M24:M27) -> 5868113710 | N23: =SUM(N24:N27) -> 5868113710
I24: 인건비(문예) | J24: 12332000000 | K24: 12332000000 | L24: =VLOOKUP(" 인건비",Sheet1!$A$1:$F$140,5,0) -> 854740491 | M24: =VLOOKUP(" 인건비",Sheet1!$A$1:$F$140,6,0) -> 3710829115 | N24: =M24 -> 3710829115
I25: 기관운영비(문예) | J25: 8065000000 | K25: 8065000000 | L25: =VLOOKUP(" 기관운영비",Sheet1!$A$1:$F$140,5,0) -> 562313104 | M25: =VLOOKUP(" 기관운영비",Sheet1!$A$1:$F$140,6,0) -> 1786937202 | N25: =M25 -> 1786937202
I26: 지원심의평가제도 운영 | J26: 553000000 | K26: 553000000 | L26: =VLOOKUP(I26,Sheet1!$A$1:$F$140,5,0) -> 32184975 | M26: =VLOOKUP(I26,Sheet1!$A$1:$F$140,6,0) -> 78336464 | N26: =M26 -> 78336464
I27: 문화예술위원회경영(정보화) | J27: 1424000000 | K27: 1424000000 | L27: =VLOOKUP(I27,Sheet1!$A$1:$F$140,5,0) -> 131901536 | M27: =VLOOKUP(I27,Sheet1!$A$1:$F$140,6,0) -> 292010929 | N27: =M27 -> 292010929
G28: 여유자금운용 | J28: =J29 -> 133019000000 | K28: =K29 -> 128871000000 | L28: =L29 -> 0 | M28: =M29 -> 0 | N28: =N29 -> 0
H29: 비통화금융기관예치(문예기금) | J29: =J30 -> 133019000000 | K29: =K30 -> 128871000000 | L29: =L30 -> 0 | M29: =M30 -> 0 | N29: =N30 -> 0
I30: 문화예술진흥기금에서 비통화금융기관으로의 예치금 | J30: 133019000000 | K30: 128871000000 | L30: =VLOOKUP(G28,Sheet1!$A$1:$F$140,5,0) -> 0 | M30: =VLOOKUP(G28,Sheet1!$A$1:$F$140,6,0) -> 0 | N30: =M30 -> 0
G31: (세출)전년도이월금 | J31: =J32 -> 116000000 | K31: =K32 -> 116000000 | L31: =L32 -> 17678800 | M31: =M32 -> 53036400 | N31: =N32 -> 53036400
H32: (세출)전년도이월금 | J32: =J33 -> 116000000 | K32: =K33 -> 116000000 | L32: =L33 -> 17678800 | M32: =M33 -> 53036400 | N32: =N33 -> 53036400
I33: (세출)이월-예술창작지원 | J33: 116000000 | K33: 116000000 | L33: =VLOOKUP(G31,Sheet1!$A$1:$F$140,5,0) -> 17678800 | M33: =VLOOKUP(G31,Sheet1!$A$1:$F$140,6,0) -> 53036400 | N33: =M33 -> 53036400

Sheet Sheet1
A1: 예산목 | B1: 예산액(당초) | C1: 예산현액(A) | D1: 3월(누계) | E1: 4월(순액) | F1: 4월(누계)
A2: 예술의창작역량및사회적가치제고 | B2: 365594000000 | C2: 365594000000 | D2: 96739844834 | E2: 45931469402 | F2: 142671314236
A3: 예술창작역량강화 | B3: 106702000000 | C3: 106702000000 | D3: 28540684976 | E3: 13951889541 | F3: 42492574517
A4: 예술창작지원 | B4: 53414000000 | C4: 53414000000 | D4: 6159342408 | E4: 3973391384 | F4: 10132733792
A5: [110-03] 상용임금 | B5: 1012342000 | C5: 1012342000 | D5: 208330529 | E5: 71116325 | F5: 279446854
A6: [110-04] 일용임금 | B6: 4050000 | C6: 4050000 | D6: 285700 | E6: 8210 | F6: 293910
A7: [210-01] 일반수용비 | B7: 8203156000 | C7: 8203156000 | D7: 941558705 | E7: 348033194 | F7: 1289591899
A8: [210-02] 공공요금 및 제세 | B8: 506900000 | C8: 506900000 | D8: 102597928 | E8: 37048510 | F8: 139646438
A9: [210-05] 특근매식비 | B9: 21000000 | C9: 21000000 | D9: 1173800 | E9: 734220 | F9: 1908020
A10: [210-07] 임차료 | B10: 41000000 | C10: 41000000 | D10: 0 | E10: 3792800 | F10: 3792800
A11: [210-09] 시설장비유지비 | B11: 1464000000 | C11: 1464000000 | D11: 120196570 | E11: 54696380 | F11: 174892950
A12: [210-12] 복리후생비 | B12: 10800000 | C12: 10800000 | D12: 0 | E12: 0 | F12: 0
A13: [210-14] 일반용역비 | B13: 1693000000 | C13: 1693000000 | D13: 96040000 | E13: 0 | F13: 96040000
... A140: 총계 | B140: 524103000000 | C140: 524103000000 | D140: 101062176038 | E140: 47530288308 | F140: 148592464346
