Workbook

Sheet 2월
A1: □ 2022회계연도 문화예술진흥기금 지출 운용상황
N2: (단위:원)
A3: 회계연도 | B3: 월 | C3: 소관명 | D3: 회계명 | E3: 세출 예산 사업명 | J3: 운용계획액 | K3: 운용계획현액 | L3: 당월지출금액(총계) | M3: 누계지출금액(총계) | N3: 누계지출금액(순계)
A4: 2022년 | B4: 2월 | C4: 문화체육관광부 | D4: 문화예술진흥기금 | E4: 문화및관광 | J4: =J5+J21 -> 523987000000 | K4: =K5+K21 -> 523987000000 | L4: =L5+L21 -> 70939576312 | M4: =M5+M21 -> 74603986931 | N4: =N5+N21 -> 74603986931
F5: 문화예술 | J5: =J6+J18 -> 368594000000 | K5: =K6+K18 -> 368594000000 | L5: =L6+L18 -> 69515627091 | M5: =M6+M18 -> 71865753192 | N5: =N6+N18 -> 71865753192
G6: 예술의 창작역량 및 사회적 가치제고 | J6: =J15+J7+J12 -> 365594000000 | K6: =K15+K7+K12 -> 365594000000 | L6: =L15+L7+L12 -> 69515627091 | M6: =M15+M7+M12 -> 71865753192 | N6: =N15+N7+N12 -> 71865753192
H7: 예술창작역량강화 | J7: =SUM(J8:J11) -> 106702000000 | K7: =SUM(K8:K11) -> 106702000000 | L7: =SUM(L8:L11) -> 7954822246 | M7: =SUM(M8:M11) -> 8883496091 | N7: =SUM(N8:N11) -> 8883496091
I8: 예술창작지원 | J8: 53414000000 | K8: 53414000000 | L8: =VLOOKUP(I8,Sheet1!$A$1:$F$140,5,0) -> 1021606124 | M8: =VLOOKUP(I8,Sheet1!$A$1:$F$140,6,0) -> 1240750080 | N8: =M8 -> 1240750080
I9: 예술인력육성 | J9: 29388000000 | K9: 29388000000 | L9: =VLOOKUP(I9,Sheet1!$A$1:$F$140,5,0) -> 933216122 | M9: =VLOOKUP(I9,Sheet1!$A$1:$F$140,6,0) -> 1042746011 | N9: =M9 -> 1042746011
I10: (복권)예술인생활안정자금(융자) | J10: 23000000000 | K10: 23000000000 | L10: =VLOOKUP(I10,Sheet1!$A$1:$F$140,5,0) -> 6000000000 | M10: =VLOOKUP(I10,Sheet1!$A$1:$F$140,6,0) -> 6000000000 | N10: =M10 -> 6000000000
I11: (복권)예술인생활안정자금 | J11: 900000000 | K11: 900000000 | L11: =VLOOKUP(I11,Sheet1!$A$1:$F$140,5,0) -> 0 | M11: =VLOOKUP(I11,Sheet1!$A$1:$F$140,6,0) -> 600000000 | N11: =M11 -> 600000000
H12: 지역문화예술진흥 | J12: =SUM(J13:J14) -> 10947000000 | K12: =SUM(K13:K14) -> 10947000000 | L12: =SUM(L13:L14) -> 1174660000 | M12: =SUM(M13:M14) -> 1180017000 | N12: =SUM(N13:N14) -> 1180017000
I13: 지역문화예술지원 | J13: 3470000000 | K13: 3470000000 | L13: =VLOOKUP(I13,Sheet1!$A$1:$F$140,5,0) -> 660000 | M13: =VLOOKUP(I13,Sheet1!$A$1:$F$140,6,0) -> 6017000 | N13: =M13 -> 6017000
I14: 예술의관광자원화 | J14: 7477000000 | K14: 7477000000 | L14: =VLOOKUP(I14,Sheet1!$A$1:$F$140,5,0) -> 1174000000 | M14: =VLOOKUP(I14,Sheet1!$A$1:$F$140,6,0) -> 1174000000 | N14: =M14 -> 1174000000
H15: 예술향유기회 확대 | J15: =SUM(J16:J17) -> 247945000000 | K15: =SUM(K16:K17) -> 247945000000 | L15: =SUM(L16:L17) -> 60386144845 | M15: =SUM(M16:M17) -> 61802240101 | N15: =SUM(N16:N17) -> 61802240101
I16: 예술정책및기부활성화 | J16: 21671000000 | K16: 21671000000 | L16: =VLOOKUP(I16,Sheet1!$A$1:$F$140,5,0) -> 519275018 | M16: =VLOOKUP(I16,Sheet1!$A$1:$F$140,6,0) -> 1878521764 | N16: =M16 -> 1878521764
I17: 문화예술향유지원 | J17: 226274000000 | K17: 226274000000 | L17: =VLOOKUP(I17,Sheet1!$A$1:$F$140,5,0) -> 59866869827 | M17: =VLOOKUP(I17,Sheet1!$A$1:$F$140,6,0) -> 59923718337 | N17: =M17 -> 59923718337
G18: 기금간거래 | J18: =J19 -> 3000000000 | K18: =K19 -> 3000000000 | L18: =L19 -> 0 | M18: =M19 -> 0 | N18: =N19 -> 0
H19: 복권기금반환금(문예진흥기금) | J19: =J20 -> 3000000000 | K19: =K20 -> 3000000000 | L19: =L20 -> 0 | M19: =M20 -> 0 | N19: =N20 -> 0
I20: 문화예술진흥기금에서 복권기금으로의 반환금 | J20: 3000000000 | K20: 3000000000 | L20: =VLOOKUP(H19,Sheet1!$A$1:$F$140,5,0) -> 0 | M20: =VLOOKUP(H19,Sheet1!$A$1:$F$140,6,0) -> 0 | N20: =M20 -> 0
F21: 문화및관광일반 | J21: =J22+J28 -> 155393000000 | K21: =K22+K28 -> 155393000000 | L21: =L22+L28 -> 1423949221 | M21: =M22+M28 -> 2738233739 | N21: =N22+N28 -> 2738233739
G22: 기금운영비 | J22: =J23 -> 22374000000 | K22: =K23 -> 22374000000 | L22: =L23 -> 1423949221 | M22: =M23 -> 2738233739 | N22: =N23 -> 2738233739
H23: 문화예술진흥기금운영비 | J23: =SUM(J24:J27) -> 22374000000 | K23: =SUM(K24:K27) -> 22374000000 | L23: =SUM(L24:L27) -> 1423949221 | M23: =SUM(M24:M27) -> 2738233739 | N23: =SUM(N24:N27) -> 2738233739
I24: 인건비(문예) | J24: 12332000000 | K24: 12332000000 | L24: =VLOOKUP(" 인건비",Sheet1!$A$1:$F$140,5,0) -> 1008164801 | M24: =VLOOKUP(" 인건비",Sheet1!$A$1:$F$140,6,0) -> 2009810728 | N24: =M24 -> 2009810728
I25: 기관운영비(문예) | J25: 8065000000 | K25: 8065000000 | L25: =VLOOKUP(" 기관운영비",Sheet1!$A$1:$F$140,5,0) -> 354937795 | M25: =VLOOKUP(" 기관운영비",Sheet1!$A$1:$F$140,6,0) -> 616052194 | N25: =M25 -> 616052194
I26: 지원심의평가제도 운영 | J26: 553000000 | K26: 553000000 | L26: =VLOOKUP(I26,Sheet1!$A$1:$F$140,5,0) -> 11872905 | M26: =VLOOKUP(I26,Sheet1!$A$1:$F$140,6,0) -> 24888820 | N26: =M26 -> 24888820
I27: 문화예술위원회경영(정보화) | J27: 1424000000 | K27: 1424000000 | L27: =VLOOKUP(I27,Sheet1!$A$1:$F$140,5,0) -> 48973720 | M27: =VLOOKUP(I27,Sheet1!$A$1:$F$140,6,0) -> 87481997 | N27: =M27 -> 87481997
G28: 여유자금운용 | J28: =J29 -> 133019000000 | K28: =K29 -> 133019000000 | L28: =L29 -> 0 | M28: =M29 -> 0 | N28: =N29 -> 0
H29: 비통화금융기관예치(문예기금) | J29: =J30 -> 133019000000 | K29: =K30 -> 133019000000 | L29: =L30 -> 0 | M29: =M30 -> 0 | N29: =N30 -> 0
I30: 문화예술진흥기금에서 비통화금융기관으로의 예치금 | J30: 133019000000 | K30: 133019000000 | L30: =VLOOKUP(G28,Sheet1!$A$1:$F$140,5,0) -> 0 | M30: =VLOOKUP(G28,Sheet1!$A$1:$F$140,6,0) -> 0 | N30: =M30 -> 0

Sheet Sheet1
A1: 예산목 | B1: 예산액(당초) | C1: 예산현액(A) | D1: 1월(누계) | E1: 2월(순액) | F1: 2월(누계)
A2: 예술의창작역량및사회적가치제고 | B2: 365594000000 | C2: 365594000000 | D2: 2350126101 | E2: 69515627091 | F2: 71865753192
A3: 예술창작역량강화 | B3: 106702000000 | C3: 106702000000 | D3: 928673845 | E3: 7954822246 | F3: 8883496091
A4: 예술창작지원 | B4: 53414000000 | C4: 53414000000 | D4: 219143956 | E4: 1021606124 | F4: 1240750080
A5: [110-03] 상용임금 | B5: 1012342000 | C5: 1012342000 | D5: 65301346 | E5: 70256166 | F5: 135557512
A6: [110-04] 일용임금 | B6: 4050000 | C6: 4050000 | D6: 0 | E6: 0 | F6: 0
A7: [210-01] 일반수용비 | B7: 8203156000 | C7: 8203156000 | D7: 88658807 | E7: 390928127 | F7: 479586934
A8: [210-02] 공공요금 및 제세 | B8: 506900000 | C8: 506900000 | D8: 22761325 | E8: 47385413 | F8: 70146738
A9: [210-05] 특근매식비 | B9: 21000000 | C9: 21000000 | D9: 0 | E9: 496700 | F9: 496700
A10: [210-07] 임차료 | B10: 41000000 | C10: 41000000 | D10: 0 | E10: 0 | F10: 0
A11: [210-09] 시설장비유지비 | B11: 1464000000 | C11: 1464000000 | D11: 14612280 | E11: 13322680 | F11: 27934960
A12: [210-12] 복리후생비 | B12: 10800000 | C12: 10800000 | D12: 0 | E12: 0 | F12: 0
A13: [210-14] 일반용역비 | B13: 1693000000 | C13: 1693000000 | D13: 0 | E13: 96040000 | F13: 96040000
... A140: 총계 | B140: 524103000000 | C140: 524103000000 | D140: 3664410619 | E140: 70957255112 | F140: 74621665731
