Workbook

Sheet 지출
A1: □ 2023회계연도 문화예술진흥기금 지출 운용상황
N2: (단위:원)
A3: 회계연도 | B3: 월 | C3: 소관명 | D3: 회계명 | E3: 세출 예산 사업명 | J3: 운용계획액 | K3: 운용계획현액 | L3: 당월지출금액(총계) | M3: 누계지출금액(총계) | N3: 누계지출금액(순계)
A4: 2023년 | B4: 9월 | C4: 문화체육 관광부 | D4: 문화예술 진흥기금 | E4: 문화및관광 | J4: =J5+J21 -> 539637000000 | K4: =K5+K21 -> 539637000000 | L4: =L5+L21 -> 9884475502 | M4: =M5+M21 -> 297155536363 | N4: =N5+N21 -> 297155536363
F5: 문화예술 | J5: =J6+J18 -> 402480000000 | K5: =K6+K18 -> 402480000000 | L5: =L6+L18 -> 7622834822 | M5: =M6+M18 -> 283257166974 | N5: =N6+N18 -> 283257166974
G6: 예술의 창작역량 및 사회적 가치제고 | J6: =J15+J7+J12 -> 384585000000 | K6: =K15+K7+K12 -> 384585000000 | L6: =L15+L7+L12 -> 7622834822 | M6: =M15+M7+M12 -> 283257166974 | N6: =N15+N7+N12 -> 283257166974
H7: 예술창작역량강화 | J7: =SUM(J8:J11) -> 103360000000 | K7: =SUM(K8:K11) -> 103360000000 | L7: =SUM(L8:L11) -> 4223571517 | M7: =SUM(M8:M11) -> 81259769244 | N7: =SUM(N8:N11) -> 81259769244
I8: 예술창작지원 | J8: =Sheet1!B4 -> 51644000000 | K8: =Sheet1!C4 -> 51644000000 | L8: =VLOOKUP(I8,Sheet1!$A$1:$F$138,5,0) -> 3342120065 | M8: =VLOOKUP(I8,Sheet1!$A$1:$F$138,6,0) -> 36450896098 | N8: =M8 -> 36450896098
I9: 예술인력육성 | J9: =Sheet1!B23 -> 32629000000 | K9: =Sheet1!C23 -> 32629000000 | L9: =VLOOKUP(I9,Sheet1!$A$1:$F$138,5,0) -> 881451452 | M9: =VLOOKUP(I9,Sheet1!$A$1:$F$138,6,0) -> 25721873146 | N9: =M9 -> 25721873146
I10: (복권)예술인생활안정자금(융자) | J10: =Sheet1!B44 -> 18000000000 | K10: =Sheet1!C44 -> 18000000000 | L10: =VLOOKUP(I10,Sheet1!$A$1:$F$138,5,0) -> 0 | M10: =VLOOKUP(I10,Sheet1!$A$1:$F$138,6,0) -> 18000000000 | N10: =M10 -> 18000000000
I11: (복권)예술인생활안정자금 | J11: =Sheet1!B46 -> 1087000000 | K11: =Sheet1!C46 -> 1087000000 | L11: =VLOOKUP(I11,Sheet1!$A$1:$F$138,5,0) -> 0 | M11: =VLOOKUP(I11,Sheet1!$A$1:$F$138,6,0) -> 1087000000 | N11: =M11 -> 1087000000
H12: 지역문화예술진흥 | J12: =SUM(J13:J14) -> 10377000000 | K12: =SUM(K13:K14) -> 10377000000 | L12: =SUM(L13:L14) -> 258222485 | M12: =SUM(M13:M14) -> 9183147313 | N12: =SUM(N13:N14) -> 9183147313
I13: 지역문화예술지원 | J13: =Sheet1!B49 -> 3294000000 | K13: =Sheet1!C49 -> 3294000000 | L13: =VLOOKUP(I13,Sheet1!$A$1:$F$138,5,0) -> 258222485 | M13: =VLOOKUP(I13,Sheet1!$A$1:$F$138,6,0) -> 2360547313 | N13: =M13 -> 2360547313
I14: 예술의관광자원화 | J14: =Sheet1!B55 -> 7083000000 | K14: =Sheet1!C55 -> 7083000000 | L14: =VLOOKUP(I14,Sheet1!$A$1:$F$138,5,0) -> 0 | M14: =VLOOKUP(I14,Sheet1!$A$1:$F$138,6,0) -> 6822600000 | N14: =M14 -> 6822600000
H15: 예술향유기회 확대 | J15: =SUM(J16:J17) -> 270848000000 | K15: =SUM(K16:K17) -> 270848000000 | L15: =SUM(L16:L17) -> 3141040820 | M15: =SUM(M16:M17) -> 192814250417 | N15: =SUM(N16:N17) -> 192814250417
I16: 예술가치의사회적확산 | J16: =Sheet1!B59 -> 22055000000 | K16: =Sheet1!C59 -> 22055000000 | L16: =VLOOKUP(I16,Sheet1!$A$1:$F$138,5,0) -> 1209810788 | M16: =VLOOKUP(I16,Sheet1!$A$1:$F$138,6,0) -> 16447289889 | N16: =M16 -> 16447289889
I17: 문화예술향유지원 | J17: =Sheet1!B76 -> 248793000000 | K17: =Sheet1!C76 -> 248793000000 | L17: =VLOOKUP(I17,Sheet1!$A$1:$F$138,5,0) -> 1931230032 | M17: =VLOOKUP(I17,Sheet1!$A$1:$F$138,6,0) -> 176366960528 | N17: =M17 -> 176366960528
G18: 기금간거래 | J18: =J19 -> 17895000000 | K18: =K19 -> 17895000000 | L18: =L19 -> 0 | M18: =M19 -> 0 | N18: =N19 -> 0
H19: 복권기금반환금(문예진흥기금) | J19: =J20 -> 17895000000 | K19: =K20 -> 17895000000 | L19: =L20 -> 0 | M19: =M20 -> 0 | N19: =N20 -> 0
I20: 문화예술진흥기금에서 복권기금으로의 반환금 | J20: =Sheet1!B131 -> 17895000000 | K20: =Sheet1!C131 -> 17895000000 | L20: =VLOOKUP(H19,Sheet1!$A$1:$F$138,5,0) -> 0 | M20: =VLOOKUP(H19,Sheet1!$A$1:$F$138,6,0) -> 0 | N20: =M20 -> 0
F21: 문화및관광일반 | J21: =J22+J28 -> 137157000000 | K21: =K22+K28 -> 137157000000 | L21: =L22+L28 -> 2261640680 | M21: =M22+M28 -> 13898369389 | N21: =N22+N28 -> 13898369389
G22: 기금운영비 | J22: =J23 -> 23282000000 | K22: =K23 -> 23282000000 | L22: =L23 -> 2261640680 | M22: =M23 -> 13898369389 | N22: =N23 -> 13898369389
H23: 문화예술진흥기금운영비 | J23: =SUM(J24:J27) -> 23282000000 | K23: =SUM(K24:K27) -> 23282000000 | L23: =SUM(L24:L27) -> 2261640680 | M23: =SUM(M24:M27) -> 13898369389 | N23: =SUM(N24:N27) -> 13898369389
I24: 인건비(문예) | J24: =Sheet1!B89 -> 12542000000 | K24: =Sheet1!C89 -> 12542000000 | L24: =VLOOKUP(" 인건비",Sheet1!$A$1:$F$138,5,0) -> 960537461 | M24: =VLOOKUP(" 인건비",Sheet1!$A$1:$F$138,6,0) -> 8417267403 | N24: =M24 -> 8417267403
I25: 기관운영비(문예) | J25: =Sheet1!B92 -> 8696000000 | K25: =Sheet1!C92 -> 8696000000 | L25: =VLOOKUP(" 기관운영비",Sheet1!$A$1:$F$138,5,0) -> 1144064998 | M25: =VLOOKUP(" 기관운영비",Sheet1!$A$1:$F$138,6,0) -> 4463627117 | N25: =M25 -> 4463627117
I26: 지원심의평가제도 운영 | J26: =Sheet1!B113 -> 362000000 | K26: =Sheet1!C113 -> 362000000 | L26: =VLOOKUP(I26,Sheet1!$A$1:$F$138,5,0) -> -16259388 | M26: =VLOOKUP(I26,Sheet1!$A$1:$F$138,6,0) -> 205079677 | N26: =M26 -> 205079677
I27: 문화예술위원회경영(정보화) | J27: =Sheet1!B120 -> 1682000000 | K27: =Sheet1!C120 -> 1682000000 | L27: =VLOOKUP(I27,Sheet1!$A$1:$F$138,5,0) -> 173297609 | M27: =VLOOKUP(I27,Sheet1!$A$1:$F$138,6,0) -> 812395192 | N27: =M27 -> 812395192
G28: 여유자금운용 | J28: =J29 -> 113875000000 | K28: =K29 -> 113875000000 | L28: =L29 -> 0 | M28: =M29 -> 0 | N28: =N29 -> 0
H29: 비통화금융기관예치(문예기금) | J29: =J30 -> 113875000000 | K29: =K30 -> 113875000000 | L29: =L30 -> 0 | M29: =M30 -> 0 | N29: =N30 -> 0
I30: 문화예술진흥기금에서 비통화금융기관으로의 예치금 | J30: =Sheet1!B136 -> 113875000000 | K30: =Sheet1!C136 -> 113875000000 | L30: =VLOOKUP(G28,Sheet1!$A$1:$F$138,5,0) -> 0 | M30: =VLOOKUP(G28,Sheet1!$A$1:$F$138,6,0) -> 0 | N30: =M30 -> 0

Sheet Sheet1
A1: 예산목 | B1: 예산액(당초) | C1: 예산현액(A) | D1: 전월(누계) | E1: 당월(순액) | F1: 당월(누계)
A2: 예술의창작역량및사회적가치제고 | B2: 384585000000 | C2: 384585000000 | D2: 275634332152 | E2: 7622834822 | F2: =D2+E2 -> 283257166974
A3: 예술창작역량강화 | B3: 103360000000 | C3: 103360000000 | D3: 77036197727 | E3: 4223571517 | F3: =D3+E3 -> 81259769244
A4: 예술창작지원 | B4: 51644000000 | C4: 51644000000 | D4: 33108776033 | E4: 3342120065 | F4: =D4+E4 -> 36450896098
A5: [110-03] 상용임금 | B5: 1030342000 | C5: 1030342000 | D5: 695732485 | E5: 101709381 | F5: =D5+E5 -> 797441866
A6: [110-04] 일용임금 | B6: 4050000 | C6: 4050000 | D6: 3191020 | E6: 0 | F6: =D6+E6 -> 3191020
A7: [210-01] 일반수용비 | B7: 7808194000 | C7: 7192444000 | D7: 3432823145 | E7: 631626021 | F7: =D7+E7 -> 4064449166
A8: [210-02] 공공요금 및 제세 | B8: 502500000 | C8: 502500000 | D8: 303787009 | E8: 52859277 | F8: =D8+E8 -> 356646286
A9: [210-05] 특근매식비 | B9: 21000000 | C9: 21000000 | D9: 9010550 | E9: 1605040 | F9: =D9+E9 -> 10615590
A10: [210-07] 임차료 | B10: 41000000 | C10: 41000000 | D10: 37098500 | E10: 0 | F10: =D10+E10 -> 37098500
A11: [210-09] 시설장비유지비 | B11: 1230000000 | C11: 1186000000 | D11: 783195414 | E11: 60423220 | F11: =D11+E11 -> 843618634
A12: [210-12] 복리후생비 | B12: 10800000 | C12: 10800000 | D12: 0 | E12: 0 | F12: =D12+E12 -> 0
A13: [210-14] 일반용역비 | B13: 2800000000 | C13: 3164000000 | D13: 119700000 | E13: 295845259 | F13: =D13+E13 -> 415545259
... A16: [240-01] 사업추진비 | B16: 48494000 | C16: 48494000 | D16: 25800366 | E16: 3350863 | F16: =D16+E16 -> 29151229
A17: [260-01] 일반연구비 | B17: 0 | C17: 210000000 | D17: 0 | E17: 0 | F17: 0
A18: [310-03] 포상금 | B18: 1686000000 | C18: 1686000000 | D18: 1536000000 | E18: 136000000 | F18: =D18+E18 -> 1672000000
A19: [320-01] 민간경상보조 | B19: 35804000000 | C19: 35804000000 | D19: 25692538400 | E19: 2019434000 | F19: =D19+E19 -> 27711972400
A20: [320-09] 고용부담금 | B20: 191492000 | C20: 191492000 | D20: 54820329 | E20: 7883570 | F20: =D20+E20 -> 62703899
A21: [420-03] 공사비 | B21: 19000000 | C21: 19000000 | D21: 0 | E21: 0 | F21: =D21+E21 -> 0
A22: [430-01] 자산취득비 | B22: 279000000 | C22: 279000000 | D22: 209753070 | E22: 4061000 | F22: =D22+E22 -> 213814070
A23: 예술인력육성 | B23: 32629000000 | C23: 32629000000 | D23: 24840421694 | E23: 881451452 | F23: =D23+E23 -> 25721873146
A24: [110-03] 상용임금 | B24: 910879000 | C24: 910879000 | D24: 258679909 | E24: 15815070 | F24: =D24+E24 -> 274494979
A25: [110-04] 일용임금 | B25: 9600000 | C25: 9600000 | D25: 5979920 | E25: 2392320 | F25: =D25+E25 -> 8372240
A26: [210-01] 일반수용비 | B26: 3828941000 | C26: 3783941000 | D26: 1906317032 | E26: 191424722 | F26: =D26+E26 -> 2097741754
A27: [210-02] 공공요금 및 제세 | B27: 79500000 | C27: 79500000 | D27: 52196540 | E27: 6241500 | F27: =D27+E27 -> 58438040
A28: [210-03] 피복비 | B28: 1500000 | C28: 1500000 | D28: 684750 | E28: 0 | F28: =D28+E28 -> 684750
A29: [210-04] 급식비 | B29: 25200000 | C29: 25200000 | D29: 22723600 | E29: 2476400 | F29: =D29+E29 -> 25200000
... A138: 총계 | B138: 539637000000 | C138: 539637000000 | D138: 287271060861 | E138: 9884475502 | F138: =D138+E138 -> 297155536363
